BEGIN:VCALENDAR
VERSION:2.0
PRODID:-//Kalleske Wines - ECPv6.15.13.1//NONSGML v1.0//EN
CALSCALE:GREGORIAN
METHOD:PUBLISH
X-ORIGINAL-URL:https://www.kalleske.com
X-WR-CALDESC:Events for Kalleske Wines
REFRESH-INTERVAL;VALUE=DURATION:PT1H
X-Robots-Tag:noindex
X-PUBLISHED-TTL:PT1H
BEGIN:VTIMEZONE
TZID:Australia/Adelaide
BEGIN:STANDARD
TZOFFSETFROM:+1030
TZOFFSETTO:+0930
TZNAME:ACST
DTSTART:20230401T163000
END:STANDARD
BEGIN:DAYLIGHT
TZOFFSETFROM:+0930
TZOFFSETTO:+1030
TZNAME:ACDT
DTSTART:20230930T163000
END:DAYLIGHT
BEGIN:STANDARD
TZOFFSETFROM:+1030
TZOFFSETTO:+0930
TZNAME:ACST
DTSTART:20240406T163000
END:STANDARD
BEGIN:DAYLIGHT
TZOFFSETFROM:+0930
TZOFFSETTO:+1030
TZNAME:ACDT
DTSTART:20241005T163000
END:DAYLIGHT
BEGIN:STANDARD
TZOFFSETFROM:+1030
TZOFFSETTO:+0930
TZNAME:ACST
DTSTART:20250405T163000
END:STANDARD
BEGIN:DAYLIGHT
TZOFFSETFROM:+0930
TZOFFSETTO:+1030
TZNAME:ACDT
DTSTART:20251004T163000
END:DAYLIGHT
END:VTIMEZONE
BEGIN:VEVENT
DTSTART;TZID=Australia/Adelaide:20241115T170000
DTEND;TZID=Australia/Adelaide:20241115T230000
DTSTAMP:20260423T190959
CREATED:20240815T011142Z
LAST-MODIFIED:20240815T022135Z
UID:26987-1731690000-1731711600@www.kalleske.com
SUMMARY:Wines by the Grass
DESCRIPTION: – Kalleske certified organic and biodynamic wines –\n–  Food by Mucho Gusto & Amanti Wood Oven Pizza –\n– Live Acoustic Music by Mollie Rose –\n– Greenock Brewers Barossa Valley Craft Beer –\nBring your own Kalleske Wine Tumbler/Goblet from previous events\, or we will have some available for purchase! (Take home reusable wine tumblers $6)\nWe recommend for you to order your food as early as possible before the evening rush. Food available 5pm to 8.30pm\nYou are welcome to bring your deck chairs! \nPLEASE REMEMBER:   Glass Free Event  |   Strictly NO BYO Alcohol  |  No BYO Food  |  Dog Free Venue (please don’t bring your dog) \n#WinesByTheGrass #KalleskeWines #Barossa #BarossaWine \nFUTURE DATES\n17 January 2024  |  21 February 2024  |  21 March 2024
URL:https://www.kalleske.com/upcoming_event/wines-by-the-grass/
LOCATION:Kalleske Cellar Door\, 6 Murray St\, Greenock\, SA\, 5360\, Australia
CATEGORIES:Friday Night Events
END:VEVENT
END:VCALENDAR