BEGIN:VCALENDAR
VERSION:2.0
PRODID:-//Kalleske Wines - ECPv6.15.13.1//NONSGML v1.0//EN
CALSCALE:GREGORIAN
METHOD:PUBLISH
X-WR-CALNAME:Kalleske Wines
X-ORIGINAL-URL:https://www.kalleske.com
X-WR-CALDESC:Events for Kalleske Wines
REFRESH-INTERVAL;VALUE=DURATION:PT1H
X-Robots-Tag:noindex
X-PUBLISHED-TTL:PT1H
BEGIN:VTIMEZONE
TZID:Australia/Adelaide
BEGIN:STANDARD
TZOFFSETFROM:+1030
TZOFFSETTO:+0930
TZNAME:ACST
DTSTART:20240406T163000
END:STANDARD
BEGIN:DAYLIGHT
TZOFFSETFROM:+0930
TZOFFSETTO:+1030
TZNAME:ACDT
DTSTART:20241005T163000
END:DAYLIGHT
BEGIN:STANDARD
TZOFFSETFROM:+1030
TZOFFSETTO:+0930
TZNAME:ACST
DTSTART:20250405T163000
END:STANDARD
BEGIN:DAYLIGHT
TZOFFSETFROM:+0930
TZOFFSETTO:+1030
TZNAME:ACDT
DTSTART:20251004T163000
END:DAYLIGHT
BEGIN:STANDARD
TZOFFSETFROM:+1030
TZOFFSETTO:+0930
TZNAME:ACST
DTSTART:20260404T163000
END:STANDARD
BEGIN:DAYLIGHT
TZOFFSETFROM:+0930
TZOFFSETTO:+1030
TZNAME:ACDT
DTSTART:20261003T163000
END:DAYLIGHT
END:VTIMEZONE
BEGIN:VEVENT
DTSTART;TZID=Australia/Adelaide:20250321T170000
DTEND;TZID=Australia/Adelaide:20250321T230000
DTSTAMP:20260423T125037
CREATED:20250124T051935Z
LAST-MODIFIED:20250124T051935Z
UID:29117-1742576400-1742598000@www.kalleske.com
SUMMARY:Wines by the Grass
DESCRIPTION:  – Kalleske certified organic and biodynamic wines –\n–  Food by Fino (Restaurant) & Bunnychownow (Curry)-\n– Live acoustic music by Amber Kalleske –\n– Greenock Brewers Barossa Valley Craft Beer –\nBring your own Kalleske Wine Tumbler/Goblet from previous events\, or we will have some available for purchase! (Take home reusable wine tumblers $6)\nWe recommend for you to order your food as early as possible before the evening rush. Food available 5pm to 8pm\nYou are welcome to bring your deck chairs! \nPLEASE REMEMBER:   Glass Free Event  |   Strictly NO BYO Alcohol  |  No BYO Food  |  Pet Free Venue (please don’t bring your dog) \n#WinesByTheGrass #KalleskeWines #Barossa #BarossaWine \nFUTURE DATES\n11 April 2025
URL:https://www.kalleske.com/upcoming_event/wines-by-the-grass-3/
LOCATION:Kalleske Cellar Door\, 6 Murray St\, Greenock\, SA\, 5360\, Australia
CATEGORIES:Friday Night Events
ATTACH;FMTTYPE=image/jpeg:https://www.kalleske.com/wp-content/uploads/2024/09/Wines-by-the-grass-header.jpg
END:VEVENT
END:VCALENDAR